Workbook
Name AMBITO_PRECIOS: Validaciones!$BH$28:$BH$31
Name CERRANDO_CIRCULO: Validaciones!$CC$2:$CC$24
Name CONTROL_PRECIO: Validaciones!$X$18:$X$23
Name DIS_FABRICACION_SOSTENIBLE: Validaciones!$CG$2:$CG$15
Name FORMATO: Validaciones!$J$2:$J$26
Name FORMATO_VENTA: Validaciones!$R$2:$R$386
Name GOURMET: Validaciones!$DW$2:$DW$42
Name IMPLANTACIONES_ADIC: Validaciones!$DO$2:$DO$135
Name INDICADOR_BALANZA: Validaciones!$AL$2:$AL$4
Name INTOLERANCIAS: Validaciones!$AH$13:$AH$27
Name IVA: Validaciones!$X$2:$X$6
Name LINEAS_NEGOCIO: Validaciones!$DK$2:$DK$121
Name Maletas: Validaciones!$EK$2:$EK$146
Name MASCOTAS: Validaciones!$CU$34:$CU$53
Name MED_AMB_COD_REGULACION: Validaciones!$BL$2:$BL$51
Name MED_AMB_REGULACION: Validaciones!$BH$2:$BH$4
Name METODO_PRODUCCION: Validaciones!$CU$2:$CU$5
Name ORIGEN_EXTRANJEROS: Validaciones!$DC$2:$DC$18
Name ORIGEN_MCIA: Validaciones!$CQ$2:$CQ$88
Name ORIGEN_SOSTENIBLE: Validaciones!$BY$2:$BY$44
Name PACKAGINGSOSTENIBLE: Validaciones!$EA$13:$EA$18
Name PAISES: Validaciones!$BP$2:$BP$257
Name PERFU_PLANTA_BAJA: Validaciones!$DS$2:$DS$90
Name PLAT_CARACT_PLANIF: Validaciones!$EQ$2:$EQ$7
Name PLAT_FUENTE_APROV: Validaciones!$EQ$13:$EQ$14
Name PLAT_PERFIL_DISTRB: Validaciones!$EQ$21
Name PLAT_PERFIL_RED: Validaciones!$EU$2:$EU$62
Name PRESENTACION: Validaciones!$N$2:$N$173
Name PRODUCCION_LOCAL: Validaciones!$BT$2:$BT$8
Name REG_ECI: Validaciones!$EG$2:$EG$6
Name REG_ECIGA: Validaciones!$EG$54:$EG$59
Name REG_HIPER: Validaciones!$EG$13:$EG$15
Name REG_SUPERCOR: Validaciones!$EG$21
Name REG_SUPERCOR_EXPRESS: Validaciones!$EG$44:$EG$48
Name REG_SUPEROPEN: Validaciones!$EG$33:$EG$39
Name REST_HORARIA: Validaciones!$AL$13:$AL$15
Name SANCHEZ_ROMERO: Validaciones!$EA$2:$EA$3
Name SECTOR_CLASIF: Validaciones!$AH$2:$AH$6
Name SEÑAL_CAFETERIA: Validaciones!$DG$2:$DG$5
Name SURTIDO_GENERAL: Validaciones!$GD$2:$GD$72
Name TEMPERATURA: Validaciones!$BH$19:$BH$21
Name TIENDA_CARACT_PLANIF: Validaciones!$FA$2:$FA$18
Name TIENDA_CICLO_PLANIF: Validaciones!$FI$2:$FI$71
Name TIENDA_FUENTE_APROV: Validaciones!$FA$33:$FA$34
Name TIENDA_PERFIL_RED: Validaciones!$FE$2:$FE$62
Name TIENDA_STATUS: Validaciones!$FM$2:$FM$14
Name TIPO_ART: Validaciones!$FS$2:$FS$4
Name TIPOLOGIA_ART: Validaciones!$BH$37:$BH$40
Name UM_CONTENIDO: Validaciones!$BA$2:$BA$98
Name UM_PUM: Validaciones!$AV$10:$AV$29
Name UNECO_COMPRA: Validaciones!$D$2:$D$30
Name UNECO_VENTA: Validaciones!$D$37:$D$69

Sheet Guia Estilo Proveedor
A1: CAMPOS DE CODIFICACIÓN | B1: DEFINICIÓN DEL CAMPO
A2: Número de proveedor | B2: Número del proveedor en 7 caracteres
A3: Descripción del artículo | B3: Descripción completa del artículo ( Descripción, Marca, Presentación,cantidad,formato)
A4: Fabricante | B4: Indicar si es diferente del nº de proveedor
A5: Modelo/Ean | B5: Sólo indicar modelo en el caso de que sea diferente del Ean
A6: Variedad 1 | B6: Datos descriptivos del producto
A7: Variedad 2 | B7: Datos descriptivos del producto
A8: Presentación | B8: Identificación de la presentación del artículo. Desplegar y elegir una presentación de la tabla
A9: Cantidad | B9: Identificacion del número de unidades que, en la unidad de medida del formato, componen el artículo.
A10: Formato | B10: Identificación de la unidad de medida en la que se expresa la cantidad del artículo. Desplegar y elegir un formato de la tabla
A11: Grados Alcohol | B11: En este campo serán informados los grados de alcohol que aplican para un determinado artículo.
A12: Fecha caducidad | B12: 2/3 de la vida útil +1
... A17: Unidad Embalaje En unidades o kgs según facturación (numero entero) | B17: Unidad empleada por el proveedor en el suministro de la mercancía
A18: Peso Bruto artículo CODIF
A19: Peso Neto (grs)
A20: Capa de palet | B20: Esta unidad indica el número de UNI (unidades de venta) que conforman cada una de las capas de un palet de producto.
A21: Unidades Palet | B21: Esta unidad indica el número de UNI (unidades de venta) que conforman cada palet de producto.
A22: Peso Neto | B22: Peso neto del producto en gramos
A23: Peso Bruto | B23: Peso bruto del producto en gramos
A24: Longitud del producto unitario | B24: Medidas específicas del artículo. Indicar siempre en Milimetros MM
A25: Ancho del producto unitario | B25: Medidas específicas del artículo. Indicar siempre en Milimetros MM
A26: Alto del producto unitario | B26: Medidas específicas del artículo. Indicar siempre en Milimetros MM
A27: DUN14 | B27: Indicar DUN14. Unidades de gestión logísitca
A28: PESO UE | B28: Peso de la unidad de embajale en Gramos
A29: LONG UE | B29: Medidas específicas de la unidad de embalaje en MM
A30: ANCHO UE | B30: Medidas específicas de la unidad de embalaje en MM
A31: ALTO UE | B31: Medidas específicas de la unidad de embalaje en MM
A32: PAÍS
A33: País de origen (origen CCI) | B33: Clave del país en el que se obtiene el material, o donde se fabrica.
A34: TEMPERATURA | B34: Modo de conservación
A35: PELIGROSIDAD
A36: DENOMINACION ORIGEN / IGP | B36: Desplegar y elegir un valor de la tabla. Si se observa la ausencia de alguna Denominación de Origen indicar como "NO DEFINIDO" para su incoporación
A37: ORIGEN MERCANCIA | B37: Desplegar y elegir un valor de la tabla
A38: METODO PRODUCCION | B38: Desplegar y elegir un valor de la tabla
A39: ECO-BIO | B39: Desplegar y elegir un valor de la tabla
A40: PRODUCTOS PARA VEGANOS | B40: Desplegar y elegir un valor de la tabla
A41: INTOLERANCIAS | B41: Desplegar y elegir un valor de la tabla
A42: ZONA DE ORIGEN-EXTRANJEROS | B42: Desplegar y elegir un valor de la tabla
A43: UNIVERSO CERRANDO EL CIRCULO | B43: Opcional. Desplegar y elegir un valor de la tabla
A44: ORIGEN SOSTENIBLE | B44: Opcional. Desplegar y elegir un valor de la tabla
...

Sheet Datos Proveedor
A2: DATOS CONTACTO PROVEEDOR:
AL3: CARACTERÍSTICAS DEL PRODUCTO | BA3: OBSERVACIONES
A4: DATOS BASICOS DEL PRODUCTO | Q4: UNIDADES DE MEDIDA DE LA UNIDAD DE VENTA | Z4: DATOS LOGISTICOS DE LA UNIDAD DE EMBALAJE | AQ4: INTOLERANCIAS
A5: Número de proveedor 7 caracteres (**) | B5: Descripción completa del artículo Hasta 40 caracteres (**) | C5: Fabricante 7 caracteres (**) | D5: Modelo/Ean Hasta 15 caracteres (**) | E5: Variedad 1 Hasta 15 caracteres (**) | F5: Variedad 2 Hasta 15 caracteres (**) | G5: Presentación (**) | H5: Cantidad 5 caracteres (**) | I5: Formato (**) | J5: Grados Alcohol | K5: Fecha caducidad 2/3 de la vida útil + 1 (**) | L5: Ind. Periodo (**) en días | M5: Marca (**) | N5: Precio Coste Tarifa (**) | O5: PVP | P5: IVA (**) | Q5: EAN (**) | R5: Unidad Embalaje (**) | S5: UNIDADES CAPA debe ser multiplo de la UE | T5: UNIDADES PALET debe ser multiplo de la UE | U5: Peso Neto (G) (**) | V5: Peso Bruto (G) | W5: Longitud del producto unitario indicar en MM | X5: Ancho del producto unitario indicar en MM | Y5: Alto del producto unitario indicar en MM | Z5: DUN14 | AA5: Unidad de transporte | AB5: PESO UE (G) | AC5: LONG UE MM | AD5: ANCHO UE MM | AE5: ALTO UE MM | AF5: País de origen (origen CCI) | AG5: TEMPERATURA | AH5: PELIGROSIDAD | AI5: PACKAGING SOSTENIBLE | AJ5: AMBITO PRECIOS | AK5: TIPOLOGIA ARTICULO | AL5: DENOMINACION ORIGEN / IGP | AM5: ORIGEN MERCANCIA | AN5: METODO PRODUCCION | AO5: ECO-BIO | AP5: PRODUCTOS PARA VEGANOS | AQ5: SG / SIN GLUTEN | AR5: SL / SIN LACTOSA | AS5: SH / SIN HUEVO | AT5: Otras intolerancias | AU5: Otras intolerancias | AV5: ZONA DE ORIGEN-EXTRANJEROS | AW5: CERRANDO EL CIRCULO | AX5: ORIGEN SOSTENIBLE | AY5: DISEÑO Y FABRICACION SOSTENIBLE | AZ5: PRODUCCION LOCAL | BA5: RECOMENDACIONES USO DEL PRODUCTO MAX 300 caracteres | BB5: RECOMENDACIONES USO DEL PRODUCTO MAX 300 caracteres | BC5: Observaciones/Nota
A6: 1903686 | B6: PANETTONE AL CIOCCOLATO | C6: 1903686 | D6: 103021 | E6: CHOCOLATE | G6: CAJA | H6: 750 | I6: G / GRAMO | K6: 120 | L6: D | M6: FIASCONARO | N6: 14.55 | O6: Ç | P6: I / 10 % | Q6: 8030525002809 | R6: 6 | S6: 30 | T6: 150 | U6: 750 | V6: 1100 | W6: 210 | X6: 210 | Y6: 160 | Z6: 28030525002803 | AA6: CAJA | AB6: 6600 | AC6: 740 | AD6: 240 | AE6: 300

Sheet Datos Compras
A4: DATOS BÁSICOS DEL PRODUCTO | U4: REFERENCIA DE COMPRA | AB4: REFERENCIA VENTA 001 | AJ4: REFERENCIA VENTA 027 | AZ4: MARC PLATAFORMA | BD4: MARC TIENDA | BJ4: MEDIO AMBIENTE | BN4: IMPUESTOS ESPECIALES | BQ4: CARACTERÍSTICAS DEL PRODUCTO
A5: Descripción del artículo | B5: Variedad 1 | C5: Variedad 2 | D5: EAN | E5: Tipo de artículo | F5: Tipo explotación (Obligatorio) | G5: Grupo de artículos 9 caracteres | H5: Señal Internet | I5: Sector Clasif | J5: Formato Venta | K5: Unidad Medida Base (UMB) | L5: Unidad de medida contenido PUM | M5: Cantidad base de comparación | N5: Unidad de medida del PUM | O5: Plazo de entrega | P5: Cantidad mínimna | Q5: Precio Coste Tarifa | R5: Precio Venta | S5: Uneco Compras 3 Dígitos | T5: Uneco de Venta 4 Dígitos | U5: T.Gestión Compra | V5: Familia | W5: Calif. 1 | X5: Calif. 2 | Y5: Calif. 3 | Z5: Calif. 5 | AA5: Calif. 6 | AB5: T.Gestión Venta | AC5: Calif. 1 | AD5: Calif. 2 | AE5: Calif.3 | AF5: Calif. 5 | AG5: Calif. 6 | AH5: Nivel de surtido | AI5: Procedimiento catalogación | AJ5: T.Gestión Venta | AK5: Calif. 1 | AL5: Calif. 2 | AM5: Calif. 3 | AN5: Calif. 5 | AO5: Calif. 6 | AP5: Nivel de surtido | AQ5: Procedimiento catalogación | AR5: Surtido General | AS5: CENTROS (VV o RG) | AT5: Fecha desde catalogación | AU5: Fecha hasta catlogación | AV5: INDICADOR BALANZA | AW5: RESTRICCIÓN HORARIA | AX5: ACUERDO DEVOLUCIÓN | AY5: SURTIDO PARCIAL (Separador pedidos) | AZ5: CD CARACT PLANIF | BA5: CD PERFIL REDONDEO | BB5: FUENTE APROV | BC5: CD PERFIL DISTRIBUCION | BD5: TIENDA CARACT PLANIF | BE5: TIENDA CICLO PLANIF | BF5: TIENDA FUENTE APROV | BG5: TIEMPO TRATAMIENTO | BH5: TIENDA PERFIL REDONDEO | BI5: TIENDA STATUS | BJ5: M.Ambiente PAIS | BK5: M.Ambiente Regulacion | BL5: M.Ambiente Cod.Regulacion | BM5: Peso ECO | BN5: Grados alcohol | BO5: País (alcohol) | BP5: Epígrafe (alcohol) | BQ5: SEÑAL DE CAFETERIA | BR5: REGIONALIDAD ECI | BS5: REGIONALIDAD HIPER | BT5: REGIONALIDAD SUPERCOR | BU5: REGIONALIDAD SUPER EXPRESS | BV5: REGIONALIDAD SUPEROPEN | BW5: REGIONALIDAD ECIGA | BX5: LINEAS NEGOCIO ADIC | BY5: LINEAS NEGOCIO ADIC 2 | BZ5: LINEAS NEGOCIO ADIC 3 | CA5: LINEAS NEGOCIO ADIC 4 | CB5: LINEAS NEGOCIO ADIC 5 | CC5: LINEAS NEGOCIO ADIC 6 | CD5: GOOD BETTER BEST | CE5: Maletas | CF5: Maletas 2 | CG5: Maletas 3 | CH5: Maletas 4 | CI5: Maletas 5 | CJ5: IMPLANTACIONES ADIC | CK5: EXCLUSIVAS | CL5: PERFUMERIA PLTA BAJA | CM5: MASCOTAS ESP | CN5: GOURMET | CO5: ETIQUETADO SANCHEZ ROMERO | CP5: DELIVERY | CQ5: Visualizar coste | CR5: Visualizar Precio | CS5: Ilimitado | CT5: Control Precio
A9: =IF('Datos Proveedor'!B9="","",'Datos Proveedor'!B9) | B9: =IF('Datos Proveedor'!E9="","",'Datos Proveedor'!E9) | C9: =IF('Datos Proveedor'!F9="","",'Datos Proveedor'!F9) | D9: =IF('Datos Proveedor'!Q9=0,"",'Datos Proveedor'!Q9) | Q9: =IF('Datos Proveedor'!N9="","",'Datos Proveedor'!N9) | BN9: =IF('Datos Proveedor'!J9="","",'Datos Proveedor'!J9)
A10: =IF('Datos Proveedor'!B10="","",'Datos Proveedor'!B10) | B10: =IF('Datos Proveedor'!E10="","",'Datos Proveedor'!E10) | C10: =IF('Datos Proveedor'!F10="","",'Datos Proveedor'!F10) | D10: =IF('Datos Proveedor'!Q10=0,"",'Datos Proveedor'!Q10) | Q10: =IF('Datos Proveedor'!N10="","",'Datos Proveedor'!N10) | BN10: =IF('Datos Proveedor'!J10="","",'Datos Proveedor'!J10)
A11: =IF('Datos Proveedor'!B11="","",'Datos Proveedor'!B11) | B11: =IF('Datos Proveedor'!E11="","",'Datos Proveedor'!E11) | C11: =IF('Datos Proveedor'!F11="","",'Datos Proveedor'!F11) | D11: =IF('Datos Proveedor'!Q11=0,"",'Datos Proveedor'!Q11) | Q11: =IF('Datos Proveedor'!N11="","",'Datos Proveedor'!N11) | BN11: =IF('Datos Proveedor'!J11="","",'Datos Proveedor'!J11)
A12: =IF('Datos Proveedor'!B12="","",'Datos Proveedor'!B12) | B12: =IF('Datos Proveedor'!E12="","",'Datos Proveedor'!E12) | C12: =IF('Datos Proveedor'!F12="","",'Datos Proveedor'!F12) | D12: =IF('Datos Proveedor'!Q12=0,"",'Datos Proveedor'!Q12) | Q12: =IF('Datos Proveedor'!N12="","",'Datos Proveedor'!N12) | BN12: =IF('Datos Proveedor'!J12="","",'Datos Proveedor'!J12)
A13: =IF('Datos Proveedor'!B13="","",'Datos Proveedor'!B13) | B13: =IF('Datos Proveedor'!E13="","",'Datos Proveedor'!E13) | C13: =IF('Datos Proveedor'!F13="","",'Datos Proveedor'!F13) | D13: =IF('Datos Proveedor'!Q13=0,"",'Datos Proveedor'!Q13) | Q13: =IF('Datos Proveedor'!N13="","",'Datos Proveedor'!N13) | BN13: =IF('Datos Proveedor'!J13="","",'Datos Proveedor'!J13)
A14: =IF('Datos Proveedor'!B14="","",'Datos Proveedor'!B14) | B14: =IF('Datos Proveedor'!E14="","",'Datos Proveedor'!E14) | C14: =IF('Datos Proveedor'!F14="","",'Datos Proveedor'!F14) | D14: =IF('Datos Proveedor'!Q14=0,"",'Datos Proveedor'!Q14) | Q14: =IF('Datos Proveedor'!N14="","",'Datos Proveedor'!N14) | BN14: =IF('Datos Proveedor'!J14="","",'Datos Proveedor'!J14)
A15: =IF('Datos Proveedor'!B15="","",'Datos Proveedor'!B15) | B15: =IF('Datos Proveedor'!E15="","",'Datos Proveedor'!E15) | C15: =IF('Datos Proveedor'!F15="","",'Datos Proveedor'!F15) | D15: =IF('Datos Proveedor'!Q15=0,"",'Datos Proveedor'!Q15) | Q15: =IF('Datos Proveedor'!N15="","",'Datos Proveedor'!N15) | BN15: =IF('Datos Proveedor'!J15="","",'Datos Proveedor'!J15)
A16: =IF('Datos Proveedor'!B16="","",'Datos Proveedor'!B16) | B16: =IF('Datos Proveedor'!E16="","",'Datos Proveedor'!E16) | C16: =IF('Datos Proveedor'!F16="","",'Datos Proveedor'!F16) | D16: =IF('Datos Proveedor'!Q16=0,"",'Datos Proveedor'!Q16) | Q16: =IF('Datos Proveedor'!N16="","",'Datos Proveedor'!N16) | BN16: =IF('Datos Proveedor'!J16="","",'Datos Proveedor'!J16)
A17: =IF('Datos Proveedor'!B17="","",'Datos Proveedor'!B17) | B17: =IF('Datos Proveedor'!E17="","",'Datos Proveedor'!E17) | C17: =IF('Datos Proveedor'!F17="","",'Datos Proveedor'!F17) | D17: =IF('Datos Proveedor'!Q17=0,"",'Datos Proveedor'!Q17) | Q17: =IF('Datos Proveedor'!N17="","",'Datos Proveedor'!N17) | BN17: =IF('Datos Proveedor'!J17="","",'Datos Proveedor'!J17)
A18: =IF('Datos Proveedor'!B18="","",'Datos Proveedor'!B18) | B18: =IF('Datos Proveedor'!E18="","",'Datos Proveedor'!E18) | C18: =IF('Datos Proveedor'!F18="","",'Datos Proveedor'!F18) | D18: =IF('Datos Proveedor'!Q18=0,"",'Datos Proveedor'!Q18) | Q18: =IF('Datos Proveedor'!N18="","",'Datos Proveedor'!N18) | BN18: =IF('Datos Proveedor'!J18="","",'Datos Proveedor'!J18)
A19: =IF('Datos Proveedor'!B19="","",'Datos Proveedor'!B19) | B19: =IF('Datos Proveedor'!E19="","",'Datos Proveedor'!E19) | C19: =IF('Datos Proveedor'!F19="","",'Datos Proveedor'!F19) | D19: =IF('Datos Proveedor'!Q19=0,"",'Datos Proveedor'!Q19) | Q19: =IF('Datos Proveedor'!N19="","",'Datos Proveedor'!N19) | BN19: =IF('Datos Proveedor'!J19="","",'Datos Proveedor'!J19)
A20: =IF('Datos Proveedor'!B20="","",'Datos Proveedor'!B20) | B20: =IF('Datos Proveedor'!E20="","",'Datos Proveedor'!E20) | C20: =IF('Datos Proveedor'!F20="","",'Datos Proveedor'!F20) | D20: =IF('Datos Proveedor'!Q20=0,"",'Datos Proveedor'!Q20) | Q20: =IF('Datos Proveedor'!N20="","",'Datos Proveedor'!N20) | BN20: =IF('Datos Proveedor'!J20="","",'Datos Proveedor'!J20)
... A104: =IF('Datos Proveedor'!B104="","",'Datos Proveedor'!B104) | B104: =IF('Datos Proveedor'!E104="","",'Datos Proveedor'!E104) | C104: =IF('Datos Proveedor'!F104="","",'Datos Proveedor'!F104) | D104: =IF('Datos Proveedor'!Q104=0,"",'Datos Proveedor'!Q104) | Q104: =IF('Datos Proveedor'!N104="","",'Datos Proveedor'!N104) | BN104: =IF('Datos Proveedor'!J104="","",'Datos Proveedor'!J104)

Sheet Validaciones
B1: unecos | D1: UNECO_COMPRA | F1: Descripción | H1: Formatos y Presentaciones | J1: FORMATO | K1: SAP | L1: Descripción | N1: PRESENTACION | O1: SAP | P1: Descripción | R1: FORMATO_VENTA | S1: SAP | T1: Descripción | V1: Impuestos e Imp. Especiales | X1: IVA | Y1: SAP | Z1: Descripción | AB1: EPIGRAFE | AC1: Valor | AD1: Descripcion | AF1: Varios | AH1: SECTOR_CLASIF | AI1: SAP | AJ1: Descripción | AL1: INDICADOR_BALANZA | AM1: SAP | AP1: Agrupaciones por Venta | AT1: Unidades de medida / Contenido | AV1: UMB | AW1: SAP | AX1: Descripción | BA1: UM_CONTENIDO | BB1: SAP | BC1: TEXTO | BE1: Medio Ambiente | BH1: MED_AMB_REGULACION | BI1: SAP | BJ1: TEXTO | BL1: MED_AMB_COD_REGULACION | BM1: SAP | BN1: Descripción | BP1: PAISES(*) | BQ1: SAP | BR1: TEXTO | BT1: PRODUCCION_LOCAL | BU1: SAP | BV1: TEXTO | BY1: ORIGEN_SOSTENIBLE | BZ1: SAP | CA1: TEXTO | CC1: CERRANDO_CIRCULO | CD1: SAP | CE1: TEXTO | CG1: DIS_FABRICACION_SOSTENIBLE | CH1: SAP | CI1: TEXTO | CK1: Cacteristícas | CM1: DENOM. ORIGEN IGP | CN1: SAP | CO1: TEXTO | CQ1: ORIGEN_MCIA | CR1: SAP | CS1: TEXTO | CU1: METODO_PRODUCCION | CV1: SAP | CY1: Denominación de Origen | DC1: ORIGEN_EXTRANJEROS | DG1: SEÑAL_CAFETERIA | DH1: SAP | DI1: TEXTO | DK1: LINEAS_NEGOCIO | DL1: SAP | DM1: TEXTO | DO1: IMPLANTACIONES_ADIC | DP1: SAP | DQ1: TEXTO | DS1: PERFU_PLANTA_BAJA | DT1: SAP | DU1: TEXTO | DW1: GOURMET | DX1: SAP | DY1: TEXTO | EA1: SANCHEZ_ROMERO | EB1: SAP | EC1: TEXTO | EE1: Regionalidad / Maletas | EG1: REG_ECI | EH1: SAP | EI1: Descripcion | EK1: MALETAS | EL1: SAP | EM1: Denom.valor caract. | EO1: Plataforma | EQ1: PLAT_CARACT_PLANIF | ER1: SAP | ES1: Descripcion | EU1: PLAT_PERFIL_RED | EV1: SAP | EW1: Descripcion | EY1: Tienda | FA1: TIENDA_CARACT_PLANIF | FB1: SAP | FC1: Descripcion | FE1: TIENDA_PERFIL_RED | FF1: SAP | FG1: Descripcion | FI1: TIENDA_CICLO_PLANIF | FJ1: SAP | FK1: Descripcion | FM1: TIENDA_STATUS | FN1: SAP | FO1: Descripcion | FS1: TIPO_ART | FT1: SAP | FU1: Descripción | FW1: Ind.per. | FX1: SAP | FZ1: Marca | GA1: Tipo de marca | GB1: Denominación marca | GD1: SURTIDO_GENERAL | GE1: SAP | GF1: Descripción
D2: 014 / CATERING | E2: 014 | F2: CATERING | J2: CAC / CACITO | K2: CAC | L2: CACITO | N2: =CONCATENATE(O2,"/",P2) -> ACET./ACETATO | O2: ACET. | P2: ACETATO | R2: =CONCATENATE(S2," / ",T2) -> 1 / A.VALLES FALDA | S2: 1 | T2: A.VALLES FALDA | X2: R / 4 % | Y2: R | Z2: 4 % | AB2: A0 / BEB. ESPIRITUOSAS (ALC) | AC2: A0 | AD2: BEB. ESPIRITUOSAS (ALC) | AH2: 00 / SIN SECTOR ASIGNADO | AI2: 00 | AJ2: SIN SECTOR ASIGNADO | AL2: N / NO APLICA | AM2: N | AN2: NO APLICA | AP2: 8D / 8 DIAS DE ORO | AQ2: 8D | AR2: 8 DIAS DE ORO | AV2: UNI / UNIDADES | AW2: UNI | AX2: UNIDADES | BA2: µL - Microlitro | BB2: µL | BC2: Microlitro | BH2: 01 / RAEE | BI2: 01 | BJ2: RAEE | BL2: 1 / A0130110 -Zinc Aire< 2 gr. | BM2: 1 | BN2: A0130110 -Zinc Aire< 2 gr. | BP2: AD / Andorra | BQ2: AD | BR2: Andorra | BT2: 001 / Moda España (ModaÑ) | BV2: 001 | BW2: Moda España (ModaÑ) | BY2: 001 / Certif. MSC (Pesca) | BZ2: 001 | CA2: Certif. MSC (Pesca) | CC2: 001 / Material reciclado (celulosa) | CD2: 001 | CE2: Material reciclado (celulosa) | CG2: 001 / Certif.Made in Green | CH2: 001 | CI2: Certif.Made in Green | CM2: 001 / Aceite de La Rioja | CN2: 001 | CO2: Aceite de La Rioja | CQ2: AN / ANDALUCIA | CR2: AN | CS2: ANDALUCIA | CU2: 01 / Pesca Extractiva | CV2: 01 | CW2: Pesca Extractiva | CY2: 001 / Aceite de La Rioja | CZ2: 001 | DA2: Aceite de La Rioja | DC2: PO / PORTUGAL | DD2: PO | DE2: PORTUGAL | DG2: M / MENU | DH2: M | DI2: MENU | DK2: BF/Bebidas Frías Pastelería | DL2: BF | DM2: Bebidas Frías Pastelería | DO2: AO/Taste Of America | DP2: AO | DQ2: Taste Of America | DS2: 00/CLUSTER 0 | DT2: 00 | DU2: CLUSTER 0 | DW2: =CONCATENATE(DX2,"/",DY2) -> GH/Gourmet sala Hiper Básico | DX2: GH | DY2: Gourmet sala Hiper Básico | EA2: PO/PRODUCTO RECOMENDADO | EB2: PO | EC2: PRODUCTO RECOMENDADO | EG2: P / PENINSULA | EH2: P | EI2: PENINSULA | EK2: ANXS/RG Andalucía XS | EL2: ANXS | EM2: RG Andalucía XS | EQ2: ZX / No relev por X-docking almacen | ER2: ZX | ES2: No relev por X-docking almacen | EU2: 01UE - Redondeo a Unidad Embalaje 1% (sin Cero) | EV2: 01UE | EW2: Redondeo a Unidad Embalaje 1% (sin Cero) | FA2: ND / Sin planificación necesidades | FB2: ND | FC2: Sin planificación necesidades | FE2: 01UE - Redondeo a Unidad Embalaje 1% (sin Cero) | FF2: 01UE | FG2: Redondeo a Unidad Embalaje 1% (sin Cero) | FI2: 01S / GC SABADO | FJ2: 01S | FK2: GC SABADO | FM2: 01 / Bloq. para aprov./almacén | FN2: 01 | FO2: Bloq. para aprov./almacén | FS2: ZMGC / Mercadería Gran Consumo | FT2: ZMGC | FU2: Mercadería Gran Consumo | FW2: Año | FX2: A | FZ2: 0001 | GA2: 2 | GB2: EL CORTE INGLES | GD2: SGE050 / AL VALDEMORO MADRID | GE2: SGE050 | GF2: AL VALDEMORO MADRID
D3: 091 / CAFETERÍA-RESTAURANTE | E3: 091 | F3: CAFETERÍA-RESTAURANTE | J3: CL / CENTILITRO | K3: CL | L3: CENTILITRO | N3: =CONCATENATE(O3,"/",P3) -> AL PESO/AL PESO | O3: AL PESO | P3: AL PESO | R3: =CONCATENATE(S3," / ",T3) -> 10 / AÑOJO FILET.1ªB | S3: 10 | T3: AÑOJO FILET.1ªB | X3: I / 10 % | Y3: I | Z3: 10 % | AB3: A0 / ALCOHOL Y BEBIDAS DERIV. | AC3: A0 | AD3: ALCOHOL Y BEBIDAS DERIV. | AH3: 01 / KILOS ó GRANEL | AI3: 01 | AJ3: KILOS ó GRANEL | AL3: P / PESO | AM3: P | AN3: PESO | AP3: AA / ORIGEN ARAGON | AQ3: AA | AR3: ORIGEN ARAGON | AV3: KG / KILOGRAMOS | AW3: KG | AX3: KILOGRAMOS | BA3: ACR - Acre | BB3: ACR | BC3: Acre | BH3: 02 / ECOPILA | BI3: 02 | BJ3: ECOPILA | BL3: 10 / A0130410 -Pilas Botón - Litio< 2 gr. | BM3: 10 | BN3: A0130410 -Pilas Botón - Litio< 2 gr. | BP3: AE / E.A.U. | BQ3: AE | BR3: E.A.U. | BT3: 002 / Hecho en Portugal | BV3: 002 | BW3: Hecho en Portugal | BY3: 002 / Certif. ASC (acuicultura) | BZ3: 002 | CA3: Certif. ASC (acuicultura) | CC3: 002 / Reutilización subproducto | CD3: 002 | CE3: Reutilización subproducto | CG3: 002 / Certif.Oeko-tex Standard 100 | CH3: 002 | CI3: Certif.Oeko-tex Standard 100 | CM3: 002 / Aceite de Mallorca/Aceite mall | CN3: 002 | CO3: Aceite de Mallorca/Aceite mall | CQ3: AA / ARAGON | CR3: AA | CS3: ARAGON | CU3: 02 / Acuicultura | CV3: 02 | CW3: Acuicultura | CY3: 002 / Aceite de Mallorca/Aceite mall | CZ3: 002 | DA3: Aceite de Mallorca/Aceite mall | DC3: AL / ALEMANIA | DD3: AL | DE3: ALEMANIA | DG3: S / SUGERENCIA | DH3: S | DI3: SUGERENCIA | DK3: RF/Refrescos | DL3: RF | DM3: Refrescos | DO3: AT/Colorido Perfumería (Asistida) | DP3: AT | DQ3: Colorido Perfumería (Asistida) | DS3: 01/CLUSTER 1 | DT3: 01 | DU3: CLUSTER 1 | DW3: =CONCATENATE(DX3,"/",DY3) -> GM/Gourmet sala Hiper Ampliado | DX3: GM | DY3: Gourmet sala Hiper Ampliado | EA3: NV/NOVEDAD | EB3: NV | EC3: NOVEDAD | EG3: I / CANARIAS | EH3: I | EI3: CANARIAS | EK3: ANS/RG Andalucía S | EL3: ANS | EM3: RG Andalucía S | EQ3: Z1 / SO y PP dinamico. | ER3: Z1 | ES3: SO y PP dinamico. | EU3: 01US - Redondeo a Unidad Surtido 1% (sin Cero) | EV3: 01US | EW3: Redondeo a Unidad Surtido 1% (sin Cero) | FA3: YD / Sin planificación surtido | FB3: YD | FC3: Sin planificación surtido | FE3: 01US - Redondeo a Unidad Surtido 1% (sin Cero) | FF3: 01US | FG3: Redondeo a Unidad Surtido 1% (sin Cero) | FI3: 101 / GC LUNES T.SEM | FJ3: 101 | FK3: GC LUNES T.SEM | FM3: 02 / Bloq. p. hoja-ruta/List-M | FN3: 02 | FO3: Bloq. p. hoja-ruta/List-M | FS3: ZMFR / Mercadería de Frescos | FT3: ZMFR | FU3: Mercadería de Frescos | FW3: Día | FX3: D | FZ3: 0002 | GA3: 2 | GB3: HIPERCOR | GD3: SGE051 / AL GUIMAR TENERIFE | GE3: SGE051 | GF3: AL GUIMAR TENERIFE
D4: 093 / CAFETERÍA-PERSONAL | E4: 093 | F4: CAFETERÍA-PERSONAL | J4: CM / CENTIMETRO | K4: CM | L4: CENTIMETRO | N4: =CONCATENATE(O4,"/",P4) -> AMPOLLA/AMPOLLA | O4: AMPOLLA | P4: AMPOLLA | R4: =CONCATENATE(S4," / ",T4) -> 100 / POLLO ALAS | S4: 100 | T4: POLLO ALAS | X4: N / 21 % | Y4: N | Z4: 21 % | AB4: A1 / ALCOHOL Y BEBIDAS DERIV. | AC4: A1 | AD4: ALCOHOL Y BEBIDAS DERIV. | AH4: 02 / CAJAS PESO VARIABLE (MIXTAS) | AI4: 02 | AJ4: CAJAS PESO VARIABLE (MIXTAS) | AL4: U / UNITARIO | AM4: U | AN4: UNITARIO | AP4: AN / ORIGEN ANDALUCIA | AQ4: AN | AR4: ORIGEN ANDALUCIA | AV4: GNE - Gramo neto escurrido | AW4: GNE | AX4: GRAMO NETO ESCURRIDO | BA4: BOL - Bolsa | BB4: BOL | BC4: Bolsa | BH4: 03 / AMBILAMP | BI4: 03 | BJ4: AMBILAMP | BL4: 11 / A0130420 -Pilas Botón - Litio2-7 gr. | BM4: 11 | BN4: A0130420 -Pilas Botón - Litio2-7 gr. | BP4: AF / Afganistán | BQ4: AF | BR4: Afganistán | BT4: 003 / DO | BV4: 003 | BW4: DO | BY4: 003 / Certif. Friend of the Sea | BZ4: 003 | CA4: Certif. Friend of the Sea | CC4: 003 / Certif. Global Recycled Standa | CD4: 003 | CE4: Certif. Global Recycled Standa | CG4: 003 / Bluesign | CH4: 003 | CI4: Bluesign | CM4: 003 / Aceite de Terra/Oli de Terra A | CN4: 003 | CO4: Aceite de Terra/Oli de Terra A | CQ4: AS / ASTURIAS | CR4: AS | CS4: ASTURIAS | CU4: 03 / Pesca Aguas Dulces | CV4: 03 | CW4: Pesca Aguas Dulces | CY4: 003 / Aceite de Terra/Oli de Terra A | CZ4: 003 | DA4: Aceite de Terra/Oli de Terra A | DC4: FR / FRANCIA | DD4: FR | DE4: FRANCIA | DG4: N / NORMAL | DH4: N | DI4: NORMAL | DK4: CP/Cafetería Península | DL4: CP | DM4: Cafetería Península | DO4: BL/Blister | DP4: BL | DQ4: Blister | DS4: 02/CLUSTER 2 | DT4: 02 | DU4: CLUSTER 2 | DW4: =CONCATENATE(DX4,"/",DY4) -> G0/Gourmet cluster 0 | DX4: G0 | DY4: Gourmet cluster 0 | EG4: T / TOTAL | EH4: T | EI4: TOTAL | EK4: ANM/RG Andalucía M | EL4: ANM | EM4: RG Andalucía M | EQ4: ZM / Manual | ER4: ZM | ES4: Manual | EU4: 50UE - Redondeo a Unidad Embalaje 50%(sin Cero) | EV4: 50UE | EW4: Redondeo a Unidad Embalaje 50%(sin Cero) | FA4: Z1 / SO y PP dinamico almacenables | FB4: Z1 | FC4: SO y PP dinamico almacenables | FE4: 50UE - Redondeo a Unidad Embalaje 50%(sin Cero) | FF4: 50UE | FG4: Redondeo a Unidad Embalaje 50%(sin Cero) | FI4: 102 / GC MARTES T.SEM | FJ4: 102 | FK4: GC MARTES T.SEM | FM4: B3 / Bloqueo Definitivo | FN4: B3 | FO4: Bloqueo Definitivo | FS4: ZEGC / Mercadería EE DD Gran Consumo | FT4: ZEGC | FU4: Mercadería EE DD Gran Consumo | FW4: Mes | FX4: M | FZ4: 0003 | GA4: 2 | GB4: SFERA | GD4: SGE052 / AL JAEN | GE4: SGE052 | GF4: AL JAEN
D5: 133 / CLUB DEL GOURMET | E5: 133 | F5: CLUB DEL GOURMET | J5: CM2 / CENTIMETRO CUADRADO | K5: CM2 | L5: CENTIMETRO CUADRADO | N5: =CONCATENATE(O5,"/",P5) -> ANFORA/ANFORA | O5: ANFORA | P5: ANFORA | R5: =CONCATENATE(S5," / ",T5) -> 101 / POLLO CONTRAMUS | S5: 101 | T5: POLLO CONTRAMUS | X5: Y / 2 % | Y5: Y | Z5: 2 % | AB5: A1 / P. INTERMEDIOS<=15% VOL. | AC5: A1 | AD5: P. INTERMEDIOS<=15% VOL. | AH5: 03 / CAJAS PESO FIJO | AI5: 03 | AJ5: CAJAS PESO FIJO | AP5: AR / ORIGEN ARGENTINA | AQ5: AR | AR5: ORIGEN ARGENTINA | BA5: LC - Botella | BB5: LC | BC5: Botella | BL5: 12 / A0130430 -Pilas Botón - Litio>7 | BM5: 12 | BN5: A0130430 -Pilas Botón - Litio>7 | BP5: AG / Antigua/Barbuda | BQ5: AG | BR5: Antigua/Barbuda | BT5: 004 / IGP | BV5: 004 | BW5: IGP | BY5: 004 / GGN Certified Global GAP | BZ5: 004 | CA5: GGN Certified Global GAP | CC5: 004 / Hilo Recover (patente) | CD5: 004 | CE5: Hilo Recover (patente) | CG5: 004 / Ecolabel | CH5: 004 | CI5: Ecolabel | CM5: 004 / Aceite del Bajo Aragón | CN5: 004 | CO5: Aceite del Bajo Aragón | CQ5: BS / CANTABRIA | CR5: BS | CS5: CANTABRIA | CU5: 04 / Marisqueo | CV5: 04 | CW5: Marisqueo | CY5: 004 / Aceite del Bajo Aragón | CZ5: 004 | DA5: Aceite del Bajo Aragón | DC5: IT / ITALIA | DD5: IT | DE5: ITALIA | DG5: G / GENERICA(SIN TFAS) | DH5: G | DI5: GENERICA(SIN TFAS) | DK5: CC/Cafetería Canarias | DL5: CC | DM5: Cafetería Canarias | DO5: CO/Productos de Comercio Justo | DP5: CO | DQ5: Productos de Comercio Justo | DS5: 03/CLUSTER 3 | DT5: 03 | DU5: CLUSTER 3 | DW5: =CONCATENATE(DX5,"/",DY5) -> G1/Gourmet cluster 1 | DX5: G1 | DY5: Gourmet cluster 1 | EG5: D / PENINSULA ECI SIN MALLORCA | EH5: D | EI5: PENINSULA ECI SIN MALLORCA | EK5: ANL/RG Andalucía L | EL5: ANL | EM5: RG Andalucía L | EQ5: ZN / Manual (Sólo almacenes) | ER5: ZN | ES5: Manual (Sólo almacenes) | EU5: 50US - Redondeo a Unidad Surtido 50%(sin Cero) | EV5: 50US | EW5: Redondeo a Unidad Surtido 50%(sin Cero) | FA5: ZC / Surtido opcional (Frescos) | FB5: ZC | FC5: Surtido opcional (Frescos) | FE5: 50US - Redondeo a Unidad Surtido 50%(sin Cero) | FF5: 50US | FG5: Redondeo a Unidad Surtido 50%(sin Cero) | FI5: 103 / GC MIERCOLES T.SEM | FJ5: 103 | FK5: GC MIERCOLES T.SEM | FM5: B6 / Bloqueo Temporal | FN5: B6 | FO5: Bloqueo Temporal | FW5: Semana | FX5: S | FZ5: 0004 | GA5: 0 | GB5: 1980 ORIGINAL | GD5: SGE054 / AL EMINENCIA SEVILLA | GE5: SGE054 | GF5: AL EMINENCIA SEVILLA
D6: 167 / DELICATESSEN INTERNACIONAL | E6: 167 | F6: DELICATESSEN INTERNACIONAL | J6: CM3 / CENTÍMETRO CÚBICO | K6: CM3 | L6: CENTÍMETRO CÚBICO | N6: =CONCATENATE(O6,"/",P6) -> AOCORTE/AO CORTE | O6: AOCORTE | P6: AO CORTE | R6: =CONCATENATE(S6," / ",T6) -> 102 / POLLO CUARTOS | S6: 102 | T6: POLLO CUARTOS | X6: X / 7,5 % | Y6: X | Z6: 7,5 % | AB6: A2 / P. INTERMEDIOS<=15% VOL. | AC6: A2 | AD6: P. INTERMEDIOS<=15% VOL. | AH6: 04 / UNIDADES | AI6: 04 | AJ6: UNIDADES | AP6: AS / FERIA DE ASTURIAS | AQ6: AS | AR6: FERIA DE ASTURIAS | BA6: C00 - Capa | BB6: C00 | BC6: Capa | BL6: 13 / A01801 -Otros | BM6: 13 | BN6: A01801 -Otros | BP6: AI / Anguilla | BQ6: AI | BR6: Anguilla | BT6: 005 / DO PORTUGAL | BV6: 005 | BW6: DO PORTUGAL | BY6: 005 / Ingrediente Aceite Palma RSPO | BZ6: 005 | CA6: Ingrediente Aceite Palma RSPO | CC6: 005 / Seaqual (patente) | CD6: 005 | CE6: Seaqual (patente) | CG6: 005 / Craddle to craddle | CH6: 005 | CI6: Craddle to craddle | CM6: 005 / DEhesa de Extremadura | CN6: 005 | CO6: DEhesa de Extremadura | CQ6: CL / CASTILLA Y LEON | CR6: CL | CS6: CASTILLA Y LEON | CY6: 005 / DEhesa de Extremadura | CZ6: 005 | DA6: DEhesa de Extremadura | DC6: UK / U.K. | DD6: UK | DE6: U.K. | DK6: CT/Cafetería Total | DL6: CT | DM6: Cafetería Total | DO6: CQ/Cava de Quesos | DP6: CQ | DQ6: Cava de Quesos | DS6: 04/CLUSTER 4 | DT6: 04 | DU6: CLUSTER 4 | DW6: =CONCATENATE(DX6,"/",DY6) -> G2/Gourmet cluster 2 | DX6: G2 | DY6: Gourmet cluster 2 | EG6: E / TOTAL ECI SIN MALLORCA | EH6: E | EI6: TOTAL ECI SIN MALLORCA | EK6: ANXL/RG Andalucía XL | EL6: ANXL | EM6: RG Andalucía XL | EQ6: ND / Sin planificación necesidades | ER6: ND | ES6: Sin planificación necesidades | EU6: 99UE - Redondeo a Unidad Embalaje 99%(sin Cero) | EV6: 99UE | EW6: Redondeo a Unidad Embalaje 99%(sin Cero) | FA6: ZD / Autoventa | FB6: ZD | FC6: Autoventa | FE6: 99UE - Redondeo a Unidad Embalaje 99%(sin Cero) | FF6: 99UE | FG6: Redondeo a Unidad Embalaje 99%(sin Cero) | FI6: 104 / GC JUEVES T.SEM | FJ6: 104 | FK6: GC JUEVES T.SEM | FM6: BC / Bloqueo para la compra | FN6: BC | FO6: Bloqueo para la compra | FW6: AÑO | FX6: A | FZ6: 0005 | GA6: 0 | GB6: 2DS | GD6: SGE055 / AL GALDACANO BILBAO | GE6: SGE055 | GF6: AL GALDACANO BILBAO
D7: 180 / LEGUMBRES Y CONSERVAS | E7: 180 | F7: LEGUMBRES Y CONSERVAS | J7: DAG / DECAGRAMO | K7: DAG | L7: DECAGRAMO | N7: =CONCATENATE(O7,"/",P7) -> AOPESO/AO PESO | O7: AOPESO | P7: AO PESO | R7: =CONCATENATE(S7," / ",T7) -> 103 / POLLO DELICIAS | S7: 103 | T7: POLLO DELICIAS | AB7: A2 / P. INTERMEDIOS > 15%VOL. | AC7: A2 | AD7: P. INTERMEDIOS > 15%VOL. | AP7: AT / ORIGEN AUSTRALIA | AQ7: AT | AR7: ORIGEN AUSTRALIA | BA7: CC - Centimetro cúbico | BB7: CC | BC7: Centimetro cúbico | BL7: 14 / B0110110 -Alcalinas< 50 gr. | BM7: 14 | BN7: B0110110 -Alcalinas< 50 gr. | BP7: AL / Albania | BQ7: AL | BR7: Albania | BT7: 006 / IGP PORTUGAL | BV7: 006 | BW7: IGP PORTUGAL | BY7: 006 / Café Mundi (café) | BZ7: 006 | CA7: Café Mundi (café) | CC7: 006 / Cupro (patente) | CD7: 006 | CE7: Cupro (patente) | CG7: 006 / Patente disminución de químico | CH7: 006 | CI7: Patente disminución de químico | CM7: 006 / Antequera | CN7: 006 | CO7: Antequera | CQ7: CM / CASTILLA-LA MANCHA | CR7: CM | CS7: CASTILLA-LA MANCHA | CY7: 006 / Antequera | CZ7: 006 | DA7: Antequera | DC7: US / USA | DD7: US | DE7: USA | DK7: GA/Cafetería Portugal | DL7: GA | DM7: Cafetería Portugal | DO7: DC/Dulces del Convento | DP7: DC | DQ7: Dulces del Convento | DS7: 05/CLUSTER 5 | DT7: 05 | DU7: CLUSTER 5 | DW7: =CONCATENATE(DX7,"/",DY7) -> G3/Gourmet cluster 3 | DX7: G3 | DY7: Gourmet cluster 3 | EK7: RAXS/RG Aragón XS | EL7: RAXS | EM7: RG Aragón XS | EQ7: =CONCATENATE(ER7,"/",ES7) -> ZG/Surtido Obligatorio (Frescos) | ER7: ZG | ES7: Surtido Obligatorio (Frescos) | EU7: 99US - Redondeo a Unidad Surtido 99% (sin Cero) | EV7: 99US | EW7: Redondeo a Unidad Surtido 99% (sin Cero) | FA7: ZE / SO y PP dinamico. | FB7: ZE | FC7: SO y PP dinamico. | FE7: 99US - Redondeo a Unidad Surtido 99% (sin Cero) | FF7: 99US | FG7: Redondeo a Unidad Surtido 99% (sin Cero) | FI7: 105 / GC VIERNES T.SEM | FJ7: 105 | FK7: GC VIERNES T.SEM | FM7: BL / Bloqueo de Plataforma | FN7: BL | FO7: Bloqueo de Plataforma | FW7: DÍA | FX7: D | FZ7: 0006 | GA7: 0 | GB7: 3 EN 1 | GD7: SGE057 / AL ALGECIRAS | GE7: SGE057 | GF7: AL ALGECIRAS
D8: 181 / FRUTERÍA | E8: 181 | F8: FRUTERÍA | J8: DL / DECILITRO | K8: DL | L8: DECILITRO | N8: =CONCATENATE(O8,"/",P8) -> APARATO/APARATO | O8: APARATO | P8: APARATO | R8: =CONCATENATE(S8," / ",T8) -> 104 / POLLO DESPOJADO | S8: 104 | T8: POLLO DESPOJADO | AB8: A3 / P. INTERMEDIOS > 15%VOL. | AC8: A3 | AD8: P. INTERMEDIOS > 15%VOL. | AP8: BA / ORIGEN BALEARES | AQ8: BA | AR8: ORIGEN BALEARES | BA8: CM3 - Centimetro cúbico | BB8: CM3 | BC8: Centimetro cúbico | BL8: 15 / B0110120 -Alcalinas51-170 gr. | BM8: 15 | BN8: B0110120 -Alcalinas51-170 gr. | BP8: AM / Armenia | BQ8: AM | BR8: Armenia | BT8: 007 / Producido en España | BV8: 007 | BW8: Producido en España | BY8: 007 / Ingrediente Soja RTRS | BZ8: 007 | CA8: Ingrediente Soja RTRS | CC8: 007 / Roica (patente) | CD8: 007 | CE8: Roica (patente) | CG8: 007 / Patente ahorro agua | CH8: 007 | CI8: Patente ahorro agua | CM8: 007 / Baena | CN8: 007 | CO8: Baena | CQ8: CA / CATALUÑA | CR8: CA | CS8: CATALUÑA | CY8: 007 / Baena | CZ8: 007 | DA8: Baena | DC8: ME / MEDITERRANEO | DD8: ME | DE8: MEDITERRANEO | DK8: ES/Patio del Espejo | DL8: ES | DM8: Patio del Espejo | DO8: F3/Feria Centros GDE - MED - PÑO | DP8: F3 | DQ8: Feria Centros GDE - MED - PÑO | DS8: SM/SURTIDO MINIMO PERFUMERIA | DT8: SM | DU8: SURTIDO MINIMO PERFUMERIA | DW8: =CONCATENATE(DX8,"/",DY8) -> G5/Gourmet cluster 5 | DX8: G5 | DY8: Gourmet cluster 5 | EK8: RAS/RG Aragón S | EL8: RAS | EM8: RG Aragón S | EU8: CJ01 - Redondeo Caja 1% | EV8: CJ01 | EW8: Redondeo Caja 1% | FA8: ZF / Surt.opcional sin stock (Fres) | FB8: ZF | FC8: Surt.opcional sin stock (Fres) | FE8: CJ01 - Redondeo Caja 1% | FF8: CJ01 | FG8: Redondeo Caja 1% | FI8: 1A5 / GC LUNES A VIERNES | FJ8: 1A5 | FK8: GC LUNES A VIERNES | FM8: BS / Bloqueo a Spaceman | FN8: BS | FO8: Bloqueo a Spaceman | FW8: MES | FX8: M | FZ8: 0007 | GA8: 0 | GB8: 3CV | GD8: SGE058 / AL RIBARROJA VALENCIA | GE8: SGE058 | GF8: AL RIBARROJA VALENCIA
D9: 182 / PESCADERÍA | E9: 182 | F9: PESCADERÍA | J9: DM3 / DECIMETRO CUBICO | K9: DM3 | L9: DECIMETRO CUBICO | N9: =CONCATENATE(O9,"/",P9) -> BALDE/BALDE | O9: BALDE | P9: BALDE | R9: =CONCATENATE(S9," / ",T9) -> 105 / POLLO ESCALOPES | S9: 105 | T9: POLLO ESCALOPES | AB9: A3 / CERVEZAS >2,8% Y <11 GP | AC9: A3 | AD9: CERVEZAS >2,8% Y <11 GP | AP9: BO / ORIGEN BOLIVIA | AQ9: BO | AR9: ORIGEN BOLIVIA | AV9: UM_PUM | AW9: SAP | AY9: ims | BA9: DM3 - Decimetro cúbico | BB9: DM3 | BC9: Decimetro cúbico | BL9: 16 / B0110130 -Alcalinas>171 gr. | BM9: 16 | BN9: B0110130 -Alcalinas>171 gr. | BP9: AN / Antillas Neerl. | BQ9: AN | BR9: Antillas Neerl. | BY9: 008 / Certif. Agricultura ecológica | BZ9: 008 | CA9: Certif. Agricultura ecológica | CC9: 008 / Orange Fiber (patente) | CD9: 008 | CE9: Orange Fiber (patente) | CG9: 008 / Calificación energética A | CH9: 008 | CI9: Calificación energética A | CM9: 008 / Gata-Hurdes | CN9: 008 | CO9: Gata-Hurdes | CQ9: VA / COMUNIDAD VALENCIANA | CR9: VA | CS9: COMUNIDAD VALENCIANA | CY9: 008 / Gata-Hurdes | CZ9: 008 | DA9: Gata-Hurdes | DC9: RU / RUSOS | DD9: RU | DE9: RUSOS | DK9: PP/Platos preparados | DL9: PP | DM9: Platos preparados | DO9: FE/Ferias Centros Grande - Median | DP9: FE | DQ9: Ferias Centros Grande - Median | DS9: JA/COLORACION JA | DT9: JA | DU9: COLORACION JA | DW9: =CONCATENATE(DX9,"/",DY9) -> G6/Gourmet cluster 6 -Experience- | DX9: G6 | DY9: Gourmet cluster 6 -Experience- | EK9: RAM/RG Aragón M | EL9: RAM | EM9: RG Aragón M | EU9: CJ50 - Redondeo Caja 50% | EV9: CJ50 | EW9: Redondeo Caja 50% | FA9: ZG / Surtido obligatorio (Frescos) | FB9: ZG | FC9: Surtido obligatorio (Frescos) | FE9: CJ50 - Redondeo Caja 50% | FF9: CJ50 | FG9: Redondeo Caja 50% | FI9: 1A6 / GC LUNES A SABADO | FJ9: 1A6 | FK9: GC LUNES A SABADO | FM9: DS / Descatalogado | FN9: DS | FO9: Descatalogado | FW9: SEMANA | FX9: S | FZ9: 0008 | GA9: 0 | GB9: 3DS | GD9: SGE059 / AL MOLINA MURCIA | GE9: SGE059 | GF9: AL MOLINA MURCIA
D10: 183 / CHARCUTERíA | E10: 183 | F10: CHARCUTERíA | J10: DOC / DOCENA | K10: DOC | L10: DOCENA | N10: =CONCATENATE(O10,"/",P10) -> BANASTA/BANASTA | O10: BANASTA | P10: BANASTA | R10: =CONCATENATE(S10," / ",T10) -> 106 / POLLO FILETES | S10: 106 | T10: POLLO FILETES | AB10: A4 / CERVEZAS >2,8% Y <11 GP | AC10: A4 | AD10: CERVEZAS >2,8% Y <11 GP | AP10: BR / ORIGEN BRASIL | AQ10: BR | AR10: ORIGEN BRASIL | AV10: KG / KG | AW10: KG | AX10: KG | BA10: CM - Centimetro | BB10: CM | BC10: Centimetro | BL10: 17 / B0110210 -Carbon Zinc< 50 gr. | BM10: 17 | BN10: B0110210 -Carbon Zinc< 50 gr. | BP10: AO / Angola | BQ10: AO | BR10: Angola | BY10: 009 / Certif. Rainforest Alliance | BZ10: 009 | CA10: Certif. Rainforest Alliance | CC10: 099 / Piñatex (patente) | CD10: 099 | CE10: Piñatex (patente) | CG10: 009 / Ecolabel (Ecoetiqueta europea) | CH10: 009 | CI10: Ecolabel (Ecoetiqueta europea) | CM10: 009 / Les Garrigues | CN10: 009 | CO10: Les Garrigues | CQ10: XM / EXTREMADURA | CR10: XM | CS10: EXTREMADURA | CY10: 009 / Les Garrigues | CZ10: 009 | DA10: Les Garrigues | DC10: PS / PAISES DEL ESTE | DD10: PS | DE10: PAISES DEL ESTE | DK10: MP/Materia Prima P.preparados | DL10: MP | DM10: Materia Prima P.preparados | DO10: FL/Feria LANDALUZ | DP10: FL | DQ10: Feria LANDALUZ | DS10: JB/COLORACION JB | DT10: JB | DU10: COLORACION JB | DW10: =CONCATENATE(DX10,"/",DY10) -> GA/Gourmet cluster 0+canarias | DX10: GA | DY10: Gourmet cluster 0+canarias | EK10: RAL/RG Aragón L | EL10: RAL | EM10: RG Aragón L | EU10: CJ80 - Redondeo Caja 80% | EV10: CJ80 | EW10: Redondeo Caja 80% | FA10: ZI / Surt.obligato sin stock (Fres) | FB10: ZI | FC10: Surt.obligato sin stock (Fres) | FE10: CJ80 - Redondeo Caja 80% | FF10: CJ80 | FG10: Redondeo Caja 80% | FI10: 1Y3 / GC LUNES Y MIERCOL | FJ10: 1Y3 | FK10: GC LUNES Y MIERCOL | FM10: FS / Fuera de surtido | FN10: FS | FO10: Fuera de surtido | FW10: AÑOS | FX10: A | FZ10: 0009 | GA10: 4 | GB10: DISPONIBLE0009 | GD10: SGE061 / AL ALCOCHETE LISBOA PORTUGAL | GE10: SGE061 | GF10: AL ALCOCHETE LISBOA PORTUGAL
D11: 184 / CARNICERíA | E11: 184 | F11: CARNICERíA | J11: DS / DOSIS | K11: DS | L11: DOSIS | N11: =CONCATENATE(O11,"/",P11) -> BANDEJA/BANDEJA | O11: BANDEJA | P11: BANDEJA | R11: =CONCATENATE(S11," / ",T11) -> 107 / POLLO HIGADITOS | S11: 107 | T11: POLLO HIGADITOS | AB11: A4 / CERVEZAS>=11GP Y <=15GP | AC11: A4 | AD11: CERVEZAS>=11GP Y <=15GP | AP11: BS / FERIA DE CANTABRIA | AQ11: BS | AR11: FERIA DE CANTABRIA | AV11: G / KG | AW11: G | AX11: KG | BA11: CM2 - Centimetro cuadrado | BB11: CM2 | BC11: Centimetro cuadrado | BL11: 18 / B0110220 -Carbon Zinc51-170 gr. | BM11: 18 | BN11: B0110220 -Carbon Zinc51-170 gr. | BP11: AQ / Antártida | BQ11: AQ | BR11: Antártida | BY11: 010 / Ecolabel (Ecoetiqueta europea) | BZ11: 010 | CA11: Ecolabel (Ecoetiqueta europea) | CC11: 010 / Econyl (patente) | CD11: 010 | CE11: Econyl (patente) | CG11: 010 / Producto sensibiliz ambiental | CH11: 010 | CI11: Producto sensibiliz ambiental | CM11: 010 / Montes de Granada | CN11: 010 | CO11: Montes de Granada | CQ11: GA / GALICIA | CR11: GA | CS11: GALICIA | CU11: ECO-BIO | CV11: SAP | CW11: TEXTO | CY11: 010 / Montes de Granada | CZ11: 010 | DA11: Montes de Granada | DC11: NO / NORDICOS | DD11: NO | DE11: NORDICOS | DK11: CG/Catering | DL11: CG | DM11: Catering | DO11: FF/Frescos Fin de Semana | DP11: FF | DQ11: Frescos Fin de Semana | DS11: JC/COLORACION JC | DT11: JC | DU11: COLORACION JC | DW11: =CONCATENATE(DX11,"/",DY11) -> GB/Gourmet cluster 1+canarias | DX11: GB | DY11: Gourmet cluster 1+canarias | EK11: RAXL/RG Aragón XL | EL11: RAXL | EM11: RG Aragón XL | EU11: CP01 - Redondeo Capa 1% | EV11: CP01 | EW11: Redondeo Capa 1% | FA11: ZM / Manual | FB11: ZM | FC11: Manual | FE11: CP01 - Redondeo Capa 1% | FF11: CP01 | FG11: Redondeo Capa 1% | FI11: 1Y4 / GC LUNES Y JUEVES | FJ11: 1Y4 | FK11: GC LUNES Y JUEVES | FM11: ZA / Activo | FN11: ZA | FO11: Activo | FW11: DÍAS | FX11: D | FZ11: 0010 | GA11: 0 | GB11: 4AUTO | GD11: SGE062 / AL MONTORNES BARCELONA | GE11: SGE062 | GF11: AL MONTORNES BARCELONA
D12: 185 / PASTELERíA | E12: 185 | F12: PASTELERíA | J12: G / GRAMO | K12: G | L12: GRAMO | N12: =CONCATENATE(O12,"/",P12) -> BARQUET/BARQUETA | O12: BARQUET | P12: BARQUETA | R12: =CONCATENATE(S12," / ",T12) -> 108 / POLLO JAMONCITO | S12: 108 | T12: POLLO JAMONCITO | AB12: A5 / CERVEZAS>=11GP Y <=15GP | AC12: A5 | AD12: CERVEZAS>=11GP Y <=15GP | AH12: INTOLERANCIAS | AI12: SAP | AJ12: Descripción | AL12: REST_HORARIA | AM12: SAP | AP12: BZ / PRODUCTOS DEL BIERZO | AQ12: BZ | AR12: PRODUCTOS DEL BIERZO | AV12: G / GHG | AW12: G | AX12: GHG | BA12: CP - Capa de Palet | BB12: CP | BC12: Capa de Palet | BL12: 19 / B0110230 -Carbon Zinc>171 gr. | BM12: 19 | BN12: B0110230 -Carbon Zinc>171 gr. | BP12: AR / Argentina | BQ12: AR | BR12: Argentina | BY12: 011 / Certif. Fairtrade | BZ12: 011 | CA12: Certif. Fairtrade | CC12: 011 / Singtex (patente) | CD12: 011 | CE12: Singtex (patente) | CG12: 011 / ISO 14006, Ecodiseño | CH12: 011 | CI12: ISO 14006, Ecodiseño | CM12: 011 / Montes de Toledo | CN12: 011 | CO12: Montes de Toledo | CQ12: BA / ISLAS BALEARES | CR12: BA | CS12: ISLAS BALEARES | CU12: 01 / PRODUCTO ECOLÓGICO/BIO | CV12: 01 | CW12: PRODUCTO ECOLÓGICO/BIO | CY12: 011 / Montes de Toledo | CZ12: 011 | DA12: Montes de Toledo | DC12: LA / LATINOS | DD12: LA | DE12: LATINOS | DK12: DE/Delivery | DL12: DE | DM12: Delivery | DO12: FR/Ferranini | DP12: FR | DQ12: Ferranini | DS12: A1/AFEITADO SISTEMAS 1 | DT12: A1 | DU12: AFEITADO SISTEMAS 1 | DW12: =CONCATENATE(DX12,"/",DY12) -> GC/Gourmet cluster 2+canarias | DX12: GC | DY12: Gourmet cluster 2+canarias | EA12: PACKAGINGSOSTENIBLE | EB12: SAP | EC12: TEXTO | EG12: REG_HIPER | EH12: SAP | EI12: Descripcion | EK12: STXS/RG Asturias XS | EL12: STXS | EM12: RG Asturias XS | EQ12: PLAT_FUENTE_APROV | ER12: SAP | ES12: Descripcion | EU12: CP05 - Redondeo Capa 5% | EV12: CP05 | EW12: Redondeo Capa 5% | FA12: ZN / Manual (solo almacenes) | FB12: ZN | FC12: Manual (solo almacenes) | FE12: CP05 - Redondeo Capa 5% | FF12: CP05 | FG12: Redondeo Capa 5% | FI12: 1Y5 / GC LUNES-VIERNES | FJ12: 1Y5 | FK12: GC LUNES-VIERNES | FM12: ZB / Bloqueado | FN12: ZB | FO12: Bloqueado | FW12: MESES | FX12: M | FZ12: 0011 | GA12: 4 | GB12: DISPONIBLE0011 | GD12: SGE063 / AL PORRIÑO VIGO | GE12: SGE063 | GF12: AL PORRIÑO VIGO
D13: 186 / BEBIDAS REFRESCANTES | E13: 186 | F13: BEBIDAS REFRESCANTES | J13: GHG / HECTOGRAMO | K13: GHG | L13: HECTOGRAMO | N13: =CONCATENATE(O13,"/",P13) -> BARRA/BARRA | O13: BARRA | P13: BARRA | R13: =CONCATENATE(S13," / ",T13) -> 109 / POLLO MUSLOS | S13: 109 | T13: POLLO MUSLOS | AB13: A5 / CERVEZAS >15GP Y <=19GP | AC13: A5 | AD13: CERVEZAS >15GP Y <=19GP | AH13: HU / C/HUEVO | AI13: HU | AJ13: C/HUEVO | AL13: 099 / Alerta sanitaria | AM13: 099 | AN13: Alerta sanitaria | AP13: CA / FERIA DE CATALUÑA | AQ13: CA | AR13: FERIA DE CATALUÑA | AV13: L / L | AW13: L | AX13: L | BA13: CJ - Caja | BB13: CJ | BC13: Caja | BL13: 2 / A0130120 -Zinc Aire>2 gr. | BM13: 2 | BN13: A0130120 -Zinc Aire>2 gr. | BP13: AS / Samoa americana | BQ13: AS | BR13: Samoa americana | BY13: 012 / Asociacíon Comercio Justo | BZ13: 012 | CA13: Asociacíon Comercio Justo | CC13: 012 / PET Reciclado | CD13: 012 | CE13: PET Reciclado | CG13: 012 / Negocio Inclusivo | CH13: 012 | CI13: Negocio Inclusivo | CM13: 012 / Poniente de Granada | CN13: 012 | CO13: Poniente de Granada | CQ13: SS / ISLAS CANARIAS | CR13: SS | CS13: ISLAS CANARIAS | CU13: 02 / PRODUCCIÓN INTEGRADA (HORTOFRU | CV13: 02 | CW13: PRODUCCIÓN INTEGRADA (HORTOFRU | CY13: 012 / Poniente de Granada | CZ13: 012 | DA13: Poniente de Granada | DC13: LX / LUXEMBURGO | DD13: LX | DE13: LUXEMBURGO | DK13: CL/Celebraciones | DL13: CL | DM13: Celebraciones | DO13: GR/Tienda de Café | DP13: GR | DQ13: Tienda de Café | DS13: A2/AFEITADO SISTEMAS 2 | DT13: A2 | DU13: AFEITADO SISTEMAS 2 | DW13: =CONCATENATE(DX13,"/",DY13) -> GD/Gourmet cluster 3+canarias | DX13: GD | DY13: Gourmet cluster 3+canarias | EA13: P001 / Plastico Reciclado | EB13: P001 | EC13: Plastico Reciclado | EG13: A / PENINSULA HIPER | EH13: A | EI13: PENINSULA HIPER | EK13: STS/RG Asturias S | EL13: STS | EM13: RG Asturias S | EQ13: 1 NORMAL | ER13: 1 | ES13: NORMAL | EU13: CP10 - Redondeo Capa 10% | EV13: CP10 | EW13: Redondeo Capa 10% | FA13: ZO / Pedido Online | FB13: ZO | FC13: Pedido Online | FE13: CP10 - Redondeo Capa 10% | FF13: CP10 | FG13: Redondeo Capa 10% | FI13: 201 / * GC LUNES 2ªSEM | FJ13: 201 | FK13: * GC LUNES 2ªSEM | FM13: ZI / Incompleto | FN13: ZI | FO13: Incompleto | FW13: SEMANAS | FX13: S | FZ13: 0012 | GA13: 0 | GB13: ABIAUTO | GD13: SGE064 / AL VALLENIZA MALAGA | GE13: SGE064 | GF13: AL VALLENIZA MALAGA
D14: 187 / VINOS Y LICORES | E14: 187 | F14: VINOS Y LICORES | J14: GNE / GRAMO NETO ESCURRIDO | K14: GNE | L14: GRAMO NETO ESCURRIDO | N14: =CONCATENATE(O14,"/",P14) -> BARRIL/BARRIL | O14: BARRIL | P14: BARRIL | R14: =CONCATENATE(S14," / ",T14) -> 11 / AÑOJO LOMO | S14: 11 | T14: AÑOJO LOMO | AB14: A6 / CERVEZAS >15GP Y <=19GP | AC14: A6 | AD14: CERVEZAS >15GP Y <=19GP | AH14: LA / C/LACTEO | AI14: LA | AJ14: C/LACTEO | AL14: 001 / Con Restricción | AM14: 001 | AN14: Con Restricción | AP14: CB / ORIGEN COLOMBIA | AQ14: CB | AR14: ORIGEN COLOMBIA | AV14: CL / L | AW14: CL | AX14: L | BA14: CL - Centilitro | BB14: CL | BC14: Centilitro | BL14: 20 / B01801 -Otros Zinc Carbon/ Alcalinas | BM14: 20 | BN14: B01801 -Otros Zinc Carbon/ Alcalinas | BP14: AT / Austria | BQ14: AT | BR14: Austria | BT14: (*) Origen mercancía Regulación medio ambiente y para los impuestos especiales | BY14: 013 / Programa PLS (lácteos) | BZ14: 013 | CA14: Programa PLS (lácteos) | CC14: 013 / Vidrio Reciclado | CD14: 013 | CE14: Vidrio Reciclado | CG14: 013 / Diamantes de laboratorio | CH14: 013 | CI14: Diamantes de laboratorio | CM14: 013 / Priego de Córdoba | CN14: 013 | CO14: Priego de Córdoba | CQ14: LR / LA RIOJA | CR14: LR | CS14: LA RIOJA | CU14: 03 / UNE 155400 (prod, Hortofrutíco | CV14: 03 | CW14: UNE 155400 (prod, Hortofrutíco | CY14: 013 / Priego de Córdoba | CZ14: 013 | DA14: Priego de Córdoba | DC14: OR / ORIENTALES | DD14: OR | DE14: ORIENTALES | DK14: OB/Obrador | DL14: OB | DM14: Obrador | DO14: IM/Impulso | DP14: IM | DQ14: Impulso | DS14: A3/CUIDADO MASCULINO 3 | DT14: A3 | DU14: CUIDADO MASCULINO 3 | DW14: =CONCATENATE(DX14,"/",DY14) -> GE/Gourmet cluster 5+canarias | DX14: GE | DY14: Gourmet cluster 5+canarias | EA14: P002 / Vidrio Reciclado | EB14: P002 | EC14: Vidrio Reciclado | EG14: B / CANARIAS HIPER | EH14: B | EI14: CANARIAS HIPER | EK14: STM/RG Asturias M | EL14: STM | EM14: RG Asturias M | EQ14: 2 TRASLADO | ER14: 2 | ES14: TRASLADO | EU14: CP25 - Redondeo Capa 25% | EV14: CP25 | EW14: Redondeo Capa 25% | FA14: ZR / Pedido por Encargo (Frescos) | FB14: ZR | FC14: Pedido por Encargo (Frescos) | FE14: CP25 - Redondeo Capa 25% | FF14: CP25 | FG14: Redondeo Capa 25% | FI14: 202 / * GC MARTES 2ªSEM | FJ14: 202 | FK14: * GC MARTES 2ªSEM | FM14: ZR / Reserva | FN14: ZR | FO14: Reserva | FW14: Años | FX14: A | FZ14: 0013 | GA14: 0 | GB14: ABSORBA | GD14: SGE065 / AL MALPICA ZARAGOZA | GE14: SGE065 | GF14: AL MALPICA ZARAGOZA
D15: 188 / REFRIGERADOS Y LACTEOS | E15: 188 | F15: REFRIGERADOS Y LACTEOS | J15: HG / HECTOGRAMO | K15: HG | L15: HECTOGRAMO | N15: =CONCATENATE(O15,"/",P15) -> BARRITA/BARRITA | O15: BARRITA | P15: BARRITA | R15: =CONCATENATE(S15," / ",T15) -> 110 / POLLO PECHUGA | S15: 110 | T15: POLLO PECHUGA | AB15: A6 / CERVEZAS > 19 GP | AC15: A6 | AD15: CERVEZAS > 19 GP | AH15: GL / C/GLUTEN | AI15: GL | AJ15: C/GLUTEN | AL15: 000 / Sin Restricción | AM15: 000 | AN15: Sin Restricción | AP15: CC / FERIA DE CAMPANIA | AQ15: CC | AR15: FERIA DE CAMPANIA | AV15: ML / L | AW15: ML | AX15: L | BA15: DAG - Decagramo | BB15: DAG | BC15: Decagramo | BL15: 21 / B0120110 -Litio AAA< 50 gr. | BM15: 21 | BN15: B0120110 -Litio AAA< 50 gr. | BP15: AU / Australia | BQ15: AU | BR15: Australia | BY15: 014 / Programa vinos sost amfori | BZ15: 014 | CA15: Programa vinos sost amfori | CC15: 014 / Denim Reciclado | CD15: 014 | CE15: Denim Reciclado | CG15: 014 / Leather Working Group Gold | CH15: 014 | CI15: Leather Working Group Gold | CM15: 014 / Sierra de Cádiz | CN15: 014 | CO15: Sierra de Cádiz | CQ15: MA / MADRID | CR15: MA | CS15: MADRID | CU15: 04 / GLOBAL GAP | CV15: 04 | CW15: GLOBAL GAP | CY15: 014 / Sierra de Cádiz | CZ15: 014 | DA15: Sierra de Cádiz | DC15: TH / TIENDA HALAL | DD15: TH | DE15: TIENDA HALAL | DK15: PS/Pastelería | DL15: PS | DM15: Pastelería | DO15: MC/Master Chef | DP15: MC | DQ15: Master Chef | DS15: A4/CUIDADO MASCULINO 4 | DT15: A4 | DU15: CUIDADO MASCULINO 4 | DW15: =CONCATENATE(DX15,"/",DY15) -> GT/Supercor cluster 0 | DX15: GT | DY15: Supercor cluster 0 | EA15: P003 / FSC (100% o mixto) | EB15: P003 | EC15: FSC (100% o mixto) | EG15: C / TOTAL HIPER | EH15: C | EI15: TOTAL HIPER | EK15: STL/RG Asturias L | EL15: STL | EM15: RG Asturias L | EU15: CP40 - Redondeo Capa 40% | EV15: CP40 | EW15: Redondeo Capa 40% | FA15: ZV / SO estat y PP estático | FB15: ZV | FC15: SO estat y PP estático | FE15: CP40 - Redondeo Capa 40% | FF15: CP40 | FG15: Redondeo Capa 40% | FI15: 203 / * GC MIERCOLES 2ªSEM | FJ15: 203 | FK15: * GC MIERCOLES 2ªSEM | FW15: Días | FX15: D | FZ15: 0014 | GA15: 4 | GB15: DISPONIBLE0014 | GD15: SGE068 / AL ALBACETE | GE15: SGE068 | GF15: AL ALBACETE
D16: 189 / CONGELADOS | E16: 189 | F16: CONGELADOS | J16: HL / HECTOLITRO | K16: HL | L16: HECTOLITRO | N16: =CONCATENATE(O16,"/",P16) -> BAUL/BAUL | O16: BAUL | P16: BAUL | R16: =CONCATENATE(S16," / ",T16) -> 111 / POLLO SOLOMILLO | S16: 111 | T16: POLLO SOLOMILLO | AB16: A7 / CERVEZAS > 19 GP | AC16: A7 | AD16: CERVEZAS > 19 GP | AH16: MO / C/MOLUSCOS | AI16: MO | AJ16: C/MOLUSCOS | AP16: CH / PANEL PVP(CHEQUEOS COMP | AQ16: CH | AR16: PANEL PVP(CHEQUEOS COMP | AV16: CM3 / L | AW16: CM3 | AX16: L | BA16: DAL - Decalitro | BB16: DAL | BC16: Decalitro | BL16: 22 / B0120120 -Litio AA< 50 gr. | BM16: 22 | BN16: B0120120 -Litio AA< 50 gr. | BP16: AW / Aruba | BQ16: AW | BR16: Aruba | BY16: 015 / Certif. FSC | BZ16: 015 | CA16: Certif. FSC | CC16: 015 / Algodón Reciclado | CD16: 015 | CE16: Algodón Reciclado | CM16: 015 / Sierra de Cazorla | CN16: 015 | CO16: Sierra de Cazorla | CQ16: MU / MURCIA | CR16: MU | CS16: MURCIA | CU16: 05 / LEAF MARQUE | CV16: 05 | CW16: LEAF MARQUE | CY16: 015 / Sierra de Cazorla | CZ16: 015 | DA16: Sierra de Cazorla | DC16: PK / PRODUCTOS KOSHER | DD16: PK | DE16: PRODUCTOS KOSHER | DK16: P1/Pastelería Mostrados G.Propia | DL16: P1 | DM16: Pastelería Mostrados G.Propia | DO16: MH/Mostrador Charcutería | DP16: MH | DQ16: Mostrador Charcutería | DS16: A5/CUIDADO MASCULINO 5 | DT16: A5 | DU16: CUIDADO MASCULINO 5 | DW16: =CONCATENATE(DX16,"/",DY16) -> GU/Supercor cluster 1 | DX16: GU | DY16: Supercor cluster 1 | EA16: P004 / Ángel Azul (papelería) | EB16: P004 | EC16: Ángel Azul (papelería) | EK16: STXL/RG Asturias XL | EL16: STXL | EM16: RG Asturias XL | EU16: CP50 - Redondeo Capa 50% | EV16: CP50 | EW16: Redondeo Capa 50% | FA16: ZW / Surt.opcional WEB (Fres) | FB16: ZW | FC16: Surt.opcional WEB (Fres) | FE16: CP50 - Redondeo Capa 50% | FF16: CP50 | FG16: Redondeo Capa 50% | FI16: 204 / * GC JUEVES 2ªSEM | FJ16: 204 | FK16: * GC JUEVES 2ªSEM | FW16: Meses | FX16: M | FZ16: 0015 | GA16: 0 | GB16: AGORA | GD16: SGE069 / AL ALTAMIRA A CORUÑA | GE16: SGE069 | GF16: AL ALTAMIRA A CORUÑA
D17: 206 / DULCES Y DESAYUNOS | E17: 206 | F17: DULCES Y DESAYUNOS | J17: KG / KILOGRAMO | K17: KG | L17: KILOGRAMO | N17: =CONCATENATE(O17,"/",P17) -> BIB/BAG IN BOX | O17: BIB | P17: BAG IN BOX | R17: =CONCATENATE(S17," / ",T17) -> 112 / POLLO TRASEROS | S17: 112 | T17: POLLO TRASEROS | X17: CONTROL_PRECIO | Y17: SAP | Z17: Descripción | AB17: A7 / ALCOHOL Y DERIV CANARIAS | AC17: A7 | AD17: ALCOHOL Y DERIV CANARIAS | AH17: SE / C/SESAMO | AI17: SE | AJ17: C/SESAMO | AP17: CI / CARGA INICIAL | AQ17: CI | AR17: CARGA INICIAL | AV17: ML / DL | AW17: ML | AX17: DL | BA17: DL - Decilitro | BB17: DL | BC17: Decilitro | BL17: 23 / B0120130 -Litio < 20 gr. | BM17: 23 | BN17: B0120130 -Litio < 20 gr. | BP17: AX / Aland Islands | BQ17: AX | BR17: Aland Islands | BY17: 016 / Certif. PEFC | BZ17: 016 | CA17: Certif. PEFC | CC17: 016 / Neumático reciclado | CD17: 016 | CE17: Neumático reciclado | CM17: 016 / Sierra de Segura | CN17: 016 | CO17: Sierra de Segura | CQ17: NV / NAVARRA | CR17: NV | CS17: NAVARRA | CU17: 06 / MSC PESCA SOSTENIBLE | CV17: 06 | CW17: MSC PESCA SOSTENIBLE | CY17: 016 / Sierra de Segura | CZ17: 016 | DA17: Sierra de Segura | DC17: TE / TESCO | DD17: TE | DE17: TESCO | DK17: P2/Pan Gestión Propia | DL17: P2 | DM17: Pan Gestión Propia | DO17: MM/Maestro Di Modena | DP17: MM | DQ17: Maestro Di Modena | DS17: P1/Productos capilares 1 | DT17: P1 | DU17: Productos capilares 1 | DW17: =CONCATENATE(DX17,"/",DY17) -> GV/Supercor cluster 2 | DX17: GV | DY17: Supercor cluster 2 | EA17: P005 / FSC Reciclado | EB17: P005 | EC17: FSC Reciclado | EK17: RBXS/RG Baleares XS | EL17: RBXS | EM17: RG Baleares XS | EU17: CP60 - Redondeo Capa 60% | EV17: CP60 | EW17: Redondeo Capa 60% | FA17: ZY / Reposición Agenda Host | FB17: ZY | FC17: Reposición Agenda Host | FE17: CP60 - Redondeo Capa 60% | FF17: CP60 | FG17: Redondeo Capa 60% | FI17: 205 / * GC VIERNES 2ªSEM | FJ17: 205 | FK17: * GC VIERNES 2ªSEM | FW17: Semanas | FX17: S | FZ17: 0016 | GA17: 0 | GB17: AGUILAR | GD17: SGE070 / AL COBALTO VALLADOLID | GE17: SGE070 | GF17: AL COBALTO VALLADOLID
D18: 207 / NUTRICION Y BIENESTAR | E18: 207 | F18: NUTRICION Y BIENESTAR | J18: L / LITRO | K18: L | L18: LITRO | N18: =CONCATENATE(O18,"/",P18) -> BIDON/BIDON | O18: BIDON | P18: BIDON | R18: =CONCATENATE(S18," / ",T18) -> 113 / POLLO TROCEADO | S18: 113 | T18: POLLO TROCEADO | X18: / Sin control | Z18: Sin control | AB18: A8 / ALCOHOL Y DERIV CANARIAS | AC18: A8 | AD18: ALCOHOL Y DERIV CANARIAS | AH18: AP / C/APIO | AI18: AP | AJ18: C/APIO | AP18: CL / FERIA DE CASTILLA Y LEÓN | AQ18: CL | AR18: FERIA DE CASTILLA Y LEÓN | AV18: UNI / UNI | AW18: UNI | AX18: UNI | BA18: DEG - Grado | BB18: DEG | BC18: Grado | BH18: TEMPERATURA | BI18: SAP | BJ18: Descripcion | BL18: 24 / B0120140 -Litio 20- 40 gr. | BM18: 24 | BN18: B0120140 -Litio 20- 40 gr. | BP18: AZ / Azerbaiyán | BQ18: AZ | BR18: Azerbaiyán | BY18: 017 / Madera justa | BZ18: 017 | CA18: Madera justa | CC18: 017 / Oro reciclado | CD18: 017 | CE18: Oro reciclado | CM18: 017 / Sierra Mágina | CN18: 017 | CO18: Sierra Mágina | CQ18: PV / PAIS VASCO | CR18: PV | CS18: PAIS VASCO | CU18: 07 / FOS PESCA SOSTENIBLE | CV18: 07 | CW18: FOS PESCA SOSTENIBLE | CY18: 017 / Sierra Mágina | CZ18: 017 | DA18: Sierra Mágina | DC18: MC / MACEDONIA | DD18: MC | DE18: MACEDONIA | DK18: P3/Graneles Gestión Propias | DL18: P3 | DM18: Graneles Gestión Propias | DO18: MN/Mesas de Navidad | DP18: MN | DQ18: Mesas de Navidad | DS18: P2/Productos capilares 2 | DT18: P2 | DU18: Productos capilares 2 | DW18: =CONCATENATE(DX18,"/",DY18) -> GW/Supercor cluster 3 | DX18: GW | DY18: Supercor cluster 3 | EA18: P006 / PEFC (100% misxto) | EB18: P006 | EC18: PEFC (100% misxto) | EK18: RBS/RG Baleares S | EL18: RBS | EM18: RG Baleares S | EU18: CP65 - Redondeo Capa 65% | EV18: CP65 | EW18: Redondeo Capa 65% | FA18: ZZ / Sólo previsión sin reapro | FB18: ZZ | FC18: Sólo previsión sin reapro | FE18: CP65 - Redondeo Capa 65% | FF18: CP65 | FG18: Redondeo Capa 65% | FI18: 211 / * GC LUNES 1/3ªSEM | FJ18: 211 | FK18: * GC LUNES 1/3ªSEM | FZ18: 0017 | GA18: 0 | GB18: AGV | GD18: SGE071 / AL ATALAYAS ALICANTE | GE18: SGE071 | GF18: AL ATALAYAS ALICANTE
D19: 209 / ULTRAMARINOS DIVERSOS | E19: 209 | F19: ULTRAMARINOS DIVERSOS | J19: M / METRO | K19: M | L19: METRO | N19: =CONCATENATE(O19,"/",P19) -> BLIST./BLISTER | O19: BLIST. | P19: BLISTER | R19: =CONCATENATE(S19," / ",T19) -> 114 / PREPARADO COCID | S19: 114 | T19: PREPARADO COCID | X19: 1 / Fecha de pedido | Y19: 1 | Z19: Fecha de pedido | AB19: A8 / PROD. INTERMED. CANARIAS | AC19: A8 | AD19: PROD. INTERMED. CANARIAS | AH19: SO / C/SOJA | AI19: SO | AJ19: C/SOJA | AL19: Reapro | AP19: CM / ORIGEN CASTILLA-LA MANC | AQ19: CM | AR19: ORIGEN CASTILLA-LA MANC | AV19: UNI / DOC | AW19: UNI | AX19: DOC | BA19: DM - Decimetro | BB19: DM | BC19: Decimetro | BH19: 01 / AMBIENTE | BI19: 01 | BJ19: AMBIENTE | BL19: 25 / B0120140 -Litio > 41 gr. | BM19: 25 | BN19: B0120140 -Litio > 41 gr. | BP19: BA / Bosnia-Herz. | BQ19: BA | BR19: Bosnia-Herz. | BY19: 018 / Certif. Ecocert | BZ19: 018 | CA19: Certif. Ecocert | CC19: 018 / Otros materiales reciclados | CD19: 018 | CE19: Otros materiales reciclados | CM19: 018 / Siurana | CN19: 018 | CO19: Siurana | CQ19: EM / ALEMANIA | CR19: EM | CS19: ALEMANIA | CU19: 08 / DOLPHIN SAFE | CV19: 08 | CW19: DOLPHIN SAFE | CY19: 018 / Siurana | CZ19: 018 | DA19: Siurana | DK19: P4/Pastelería M G.Propia Canaria | DL19: P4 | DM19: Pastelería M G.Propia Canaria | DO19: M1/Maestro Di Modena Reducido | DP19: M1 | DQ19: Maestro Di Modena Reducido | DS19: P3/Productos capilares 3 | DT19: P3 | DU19: Productos capilares 3 | DW19: =CONCATENATE(DX19,"/",DY19) -> GG/Supercor cluster 4 | DX19: GG | DY19: Supercor cluster 4 | EK19: RBM/RG Baleares M | EL19: RBM | EM19: RG Baleares M | EU19: CP70 - Redondeo Capa 70% | EV19: CP70 | EW19: Redondeo Capa 70% | FE19: CP70 - Redondeo Capa 70% | FF19: CP70 | FG19: Redondeo Capa 70% | FI19: 212 / * GC MARTES 1/3ªSEM | FJ19: 212 | FK19: * GC MARTES 1/3ªSEM | FZ19: 0018 | GA19: 0 | GB19: AIR FRESH | GD19: SGE072 / AL EL GORO LAS PALMAS | GE19: SGE072 | GF19: AL EL GORO LAS PALMAS
D20: 219 / MASCOTAS | E20: 219 | F20: MASCOTAS | J20: M2 / METRO CUADRADO | K20: M2 | L20: METRO CUADRADO | N20: =CONCATENATE(O20,"/",P20) -> BLISTER/BLISTER | O20: BLISTER | P20: BLISTER | R20: =CONCATENATE(S20," / ",T20) -> 115 / PRUEBA+ | S20: 115 | T20: PRUEBA+ | X20: 2 / Fecha de entrega | Y20: 2 | Z20: Fecha de entrega | AB20: AL / PROD. INTERMED. CANARIAS | AC20: AL | AD20: PROD. INTERMED. CANARIAS | AH20: PE / C/PESCADO | AI20: PE | AJ20: C/PESCADO | AL20: 01 / AUTOVENTA | AM20: 01 | AN20: AUTOVENTA | AP20: CN / ORIGEN CANADA | AQ20: CN | AR20: ORIGEN CANADA | AV20: DS / DS | AW20: DS | AX20: DS | BA20: TR - Tambor | BB20: TR | BC20: Tambor | BH20: 02 / CHILLED | BI20: 02 | BJ20: CHILLED | BL20: 26 / B01802 -Otros Litio | BM20: 26 | BN20: B01802 -Otros Litio | BP20: BB / Barbados | BQ20: BB | BR20: Barbados | BY20: 019 / Certif. Welfare Quality | BZ20: 019 | CA20: Certif. Welfare Quality | CC20: 019 / Pluma Reciclada | CD20: 019 | CE20: Pluma Reciclada | CM20: 019 / Carne de Ávila | CN20: 019 | CO20: Carne de Ávila | CQ20: AR / ARGENTINA | CR20: AR | CS20: ARGENTINA | CU20: 09 / KRAV | CV20: 09 | CW20: KRAV | CY20: 019 / Carne de Ávila | CZ20: 019 | DA20: Carne de Ávila | DK20: P5/Pan Gestión Propia Canarias | DL20: P5 | DM20: Pan Gestión Propia Canarias | DO20: NT/Nutrisport | DP20: NT | DQ20: Nutrisport | DS20: P4/Productos capilares 4 | DT20: P4 | DU20: Productos capilares 4 | DW20: =CONCATENATE(DX20,"/",DY20) -> GX/Supercor cluster 0+Canarias | DX20: GX | DY20: Supercor cluster 0+Canarias | EK20: RBL/RG Baleares L | EL20: RBL | EM20: RG Baleares L | EQ20: PLAT_PERFIL_DISTRB | ER20: SAP | ES20: Descripcion | EU20: CP80 - Redondeo Capa 80% | EV20: CP80 | EW20: Redondeo Capa 80% | FE20: CP80 - Redondeo Capa 80% | FF20: CP80 | FG20: Redondeo Capa 80% | FI20: 213 / * GC MIERC. 1/3ªSEM | FJ20: 213 | FK20: * GC MIERC. 1/3ªSEM | FZ20: 0019 | GA20: 4 | GB20: DISPONIBLE0019 | GD20: SGE073 / AL LEON | GE20: SGE073 | GF20: AL LEON
